BEGIN:VCALENDAR
VERSION:2.0
PRODID:-//wp-events-plugin.com//7.2.3.1//EN
TZID:Europe/Paris
X-WR-TIMEZONE:Europe/Paris
BEGIN:VEVENT
UID:825@golfdusart.com
DTSTART;TZID=Europe/Paris:20240428T080000
DTEND;TZID=Europe/Paris:20240428T140000
DTSTAMP:20240331T113102Z
URL:https://golfdusart.com/events/championnat-du-club-en-simple-3/
SUMMARY:Championnat du Club en simple
DESCRIPTION:\n\n&nbsp\;\n\nFormule : Pour les hommes  : 1ére série en St
 roke play en 2 tours - Cut à l'issue du 1er tour\, index limité à 18.4\
 n\n   Pour les Dames :   1 tour en Stroke play index limité à 24.4 - a
 vec match final pour les  2éres.\n\n2nde série en stableford\, Hommes e
 t Dames\, index limité à 36\n\nResponsables : Karl Lefebvre et Amandine
  Hecquet\n
ATTACH;FMTTYPE=image/jpeg:https://golfdusart.com/wp-content/uploads/2023/0
 4/admin-ajax.jpeg
CATEGORIES:Compétitions du club
LOCATION:Golf du Sart\, 5 rue Jean-Jaurès\, Villeneuve d'Ascq\, 59650\, Fr
 ance
X-APPLE-STRUCTURED-LOCATION;VALUE=URI;X-ADDRESS=5 rue Jean-Jaurès\, Villen
 euve d'Ascq\, 59650\, France;X-APPLE-RADIUS=100;X-TITLE=Golf du Sart:geo:0
 ,0
END:VEVENT
BEGIN:VTIMEZONE
TZID:Europe/Paris
X-LIC-LOCATION:Europe/Paris
BEGIN:DAYLIGHT
DTSTART:20240331T030000
TZOFFSETFROM:+0100
TZOFFSETTO:+0200
TZNAME:CEST
END:DAYLIGHT
END:VTIMEZONE
END:VCALENDAR